BEGIN:VCALENDAR
VERSION:2.0
PRODID:-//Cocotte - ECPv6.15.20//NONSGML v1.0//EN
CALSCALE:GREGORIAN
METHOD:PUBLISH
X-WR-CALNAME:Cocotte
X-ORIGINAL-URL:https://cocotte.nc
X-WR-CALDESC:Évènements pour Cocotte
REFRESH-INTERVAL;VALUE=DURATION:PT1H
X-Robots-Tag:noindex
X-PUBLISHED-TTL:PT1H
BEGIN:VTIMEZONE
TZID:Pacific/Noumea
BEGIN:STANDARD
TZOFFSETFROM:+1100
TZOFFSETTO:+1100
TZNAME:+11
DTSTART:20240101T000000
END:STANDARD
END:VTIMEZONE
BEGIN:VEVENT
DTSTART;TZID=Pacific/Noumea:20250110T180000
DTEND;TZID=Pacific/Noumea:20250110T233000
DTSTAMP:20260423T203946
CREATED:20250106T210512Z
LAST-MODIFIED:20250106T211333Z
UID:2075-1736532000-1736551800@cocotte.nc
SUMMARY:Set by DJ Ribeiro
DESCRIPTION:
URL:https://cocotte.nc/soiree/set-by-dj-ribeiro/
CATEGORIES:Guinguette Folle
END:VEVENT
BEGIN:VEVENT
DTSTART;TZID=Pacific/Noumea:20250110T190000
DTEND;TZID=Pacific/Noumea:20250110T230000
DTSTAMP:20260423T203946
CREATED:20250106T210308Z
LAST-MODIFIED:20250106T210308Z
UID:2072-1736535600-1736550000@cocotte.nc
SUMMARY:Set by Dj Kenside
DESCRIPTION:
URL:https://cocotte.nc/soiree/set-by-dj-kenside/
CATEGORIES:Guinguette Folle
ATTACH;FMTTYPE=image/png:https://cocotte.nc/wp-content/uploads/2025/01/DJ-KENSIDE-10-01-TROPICAL.png
END:VEVENT
END:VCALENDAR